BEGIN:VCALENDAR
VERSION:2.0
PRODID:-//a compás Studio&amp;Location - ECPv6.15.17.1//NONSGML v1.0//EN
CALSCALE:GREGORIAN
METHOD:PUBLISH
X-ORIGINAL-URL:https://acompas.de
X-WR-CALDESC:Veranstaltungen für a compás Studio&amp;Location
REFRESH-INTERVAL;VALUE=DURATION:PT1H
X-Robots-Tag:noindex
X-PUBLISHED-TTL:PT1H
BEGIN:VTIMEZONE
TZID:Europe/Berlin
BEGIN:DAYLIGHT
TZOFFSETFROM:+0100
TZOFFSETTO:+0200
TZNAME:CEST
DTSTART:20230326T010000
END:DAYLIGHT
BEGIN:STANDARD
TZOFFSETFROM:+0200
TZOFFSETTO:+0100
TZNAME:CET
DTSTART:20231029T010000
END:STANDARD
BEGIN:DAYLIGHT
TZOFFSETFROM:+0100
TZOFFSETTO:+0200
TZNAME:CEST
DTSTART:20240331T010000
END:DAYLIGHT
BEGIN:STANDARD
TZOFFSETFROM:+0200
TZOFFSETTO:+0100
TZNAME:CET
DTSTART:20241027T010000
END:STANDARD
BEGIN:DAYLIGHT
TZOFFSETFROM:+0100
TZOFFSETTO:+0200
TZNAME:CEST
DTSTART:20250330T010000
END:DAYLIGHT
BEGIN:STANDARD
TZOFFSETFROM:+0200
TZOFFSETTO:+0100
TZNAME:CET
DTSTART:20251026T010000
END:STANDARD
END:VTIMEZONE
BEGIN:VEVENT
DTSTART;TZID=Europe/Berlin:20240309T200000
DTEND;TZID=Europe/Berlin:20240309T220000
DTSTAMP:20260424T060357
CREATED:20231227T192456Z
LAST-MODIFIED:20231228T103047Z
UID:5124-1710014400-1710021600@acompas.de
SUMMARY:"El Gordito" y Ñusta
DESCRIPTION:Samstag\, 09.03.24\n20:00 – 22:00\nTablao Flamenco\ntraditioneller Flamenco in 2 Sets\nTanz: „El Gordito“ y Ñusta\nGesang: Javier Castrillón\nGitarre: Valle Monje \nVeranstalter: Dirk Hoffmann\nKarten/Info: www.acompas.de
URL:https://acompas.de/kalendar/el-gordito-y-nusta/
LOCATION:a compás Studio & Location\, Hasenheide 54 Hof 3\, Berlin\, Berlin\, 10967\, Deutschland
ATTACH;FMTTYPE=image/jpeg:https://acompas.de/wp-content/uploads/2023/12/El-Gordito-y-nusta.jpg
END:VEVENT
BEGIN:VEVENT
DTSTART;TZID=Europe/Berlin:20240310T140000
DTEND;TZID=Europe/Berlin:20240310T180000
DTSTAMP:20260424T060357
CREATED:20240224T110801Z
LAST-MODIFIED:20240224T110801Z
UID:5298-1710079200-1710093600@acompas.de
SUMMARY:Tag der offenen Tür 2024
DESCRIPTION:Tag der offenen Tür im a compás  \nSonntag 10 März 24  \n14:00 – 18:00 Uhr  \nTanzaufführungen\, Kurse zum schnuppern… Live Musik\, Piñata \n🌷💃🏿🕺🏿🌷💃🏿🕺🏿🌷💃🏿🕺🏿🌷💃🏿🕺🏿 \nHerzlich willkommen bei freiem Eintritt!  \nFoto: Javier Moya\nBühnenbild: DraDog Werkstätten 
URL:https://acompas.de/kalendar/tag-der-offenen-tuer-2024/
LOCATION:a compás Studio & Location\, Hasenheide 54 Hof 3\, Berlin\, Berlin\, 10967\, Deutschland
ATTACH;FMTTYPE=image/jpeg:https://acompas.de/wp-content/uploads/2024/02/tag-der-offenen-tuer.jpg
ORGANIZER;CN="La Vasca Flamenca e.V.":MAILTO:info@la-vasca-flamenca.de
END:VEVENT
BEGIN:VEVENT
DTSTART;TZID=Europe/Berlin:20240313T193000
DTEND;TZID=Europe/Berlin:20240313T220000
DTSTAMP:20260424T060357
CREATED:20231227T230704Z
LAST-MODIFIED:20231227T230704Z
UID:5139-1710358200-1710367200@acompas.de
SUMMARY:Sevillanas - "After Work Party"
DESCRIPTION:Sevillanas – „After Work Party“\nJeder 2. Mittwoch im Monat\ntanzen & jamen von 19:30 – 22:00\n10.01.\, 14.02.\, 13.03. und 10.04.2024\nEintritt frei!\nVeranstalter:la Vasca Flamenca e.V.\nwww.acompas.de \nFoto: Janette Kneisel
URL:https://acompas.de/kalendar/sevillanas-after-work-party-7/
LOCATION:a compás Studio & Location\, Hasenheide 54 Hof 3\, Berlin\, Berlin\, 10967\, Deutschland
ATTACH;FMTTYPE=image/jpeg:https://acompas.de/wp-content/uploads/2023/12/laura-la-risa-sevillanas-after-work-party.jpg
ORGANIZER;CN="Laura la Risa":MAILTO:info@laura-la-risa.de
END:VEVENT
BEGIN:VEVENT
DTSTART;TZID=Europe/Berlin:20240315T190000
DTEND;TZID=Europe/Berlin:20240317T133000
DTSTAMP:20260424T060357
CREATED:20231228T114818Z
LAST-MODIFIED:20231228T120859Z
UID:5159-1710529200-1710682200@acompas.de
SUMMARY:Flamencoworkshop mit Carina la Debla
DESCRIPTION:Carina la Debla Carina lebt seit 1995 in Andalusien\, zunächst in Granada\, dann bis heute in Sevilla. Neben ihrer Bühnentätigkeit als Tänzerin gibt Carina seit dem Jahr 2000 europaweit in unterschiedlichen Projekten und Tanzproduktionen weiter\, was sie am Ausdruckstanz im Allgemeinen und am Flamenco im Speziellen fasziniert. Ohne sich den Genuss des traditionellen Tanzes zu versagen\, geht Carina eigene tänzerische Wege.  Sie ist bekannt dafür\, Grenzen des traditionellen Flamenco zu sprengen und kreative Choreografien zu realisieren. Als Lehrerin geht sie individuell auf ihre Schüler*innen ein und bietet eine Bandbreite von gezielten Übungen für die ihr anvertraute Gruppe an. Carina legt Wert auf eine Körperarbeit mit Schwerpunkt Bewegungsqualität und bewusste Bewegungsführung. So sind ihre Klassen für alle Stufen geeignet. \nKurszeiten und Beiträge:  \nTécnica de Baile y Zapateados (alle Stufen)\n15.03.24 Freitag 19:00 – 20:00\n16.03.24 Samstag 11:00 – 12:00\n17.03.24 Sonntag 11:00 – 12:00\nFrühbucher: 90€ (bis 15.02.24)\ndanach 100€ \nTécnica por Alegría con Mantón (M-F)\n15.03.24 Freitag 20:00 – 21:30\n16.03.24 Samstag 12:00 – 13:30\n17.03.24 Sonntag 12:00 – 13:30\nFrühbucher: 135€ (bis 15.02.24)\ndanach 150€
URL:https://acompas.de/kalendar/flamencoworkshop-mit-carina-la-debla/
LOCATION:a compás Studio & Location\, Hasenheide 54 Hof 3\, Berlin\, Berlin\, 10967\, Deutschland
ATTACH;FMTTYPE=image/jpeg:https://acompas.de/wp-content/uploads/2023/12/carina-la-debla-workshop.jpg
ORGANIZER;CN="Carina la Debla":MAILTO:info@carinaladebla.com
END:VEVENT
BEGIN:VEVENT
DTSTART;TZID=Europe/Berlin:20240316T200000
DTEND;TZID=Europe/Berlin:20240316T220000
DTSTAMP:20260424T060357
CREATED:20231227T231612Z
LAST-MODIFIED:20231228T103343Z
UID:5143-1710619200-1710626400@acompas.de
SUMMARY:Tablao Flamenco mit Carina la Debla
DESCRIPTION:Samstag\, 16.03.24\n20:00 – 22:00\nTablao Flamenco\ntraditioneller Flamenco in 2 Sets\nTanz: Carina la Debla\, Laura la Risa\nGesang: Juan Cárdenas\nGitarre: Carlos el Canario\nPercussion: Tom Auffarth\nVeranstalter: la Vasca Flamenca e.V.\nKarten/Info: www.acompas.de
URL:https://acompas.de/kalendar/tablao-flamenco-mit-carina-la-debla/
LOCATION:a compás Studio & Location\, Hasenheide 54 Hof 3\, Berlin\, Berlin\, 10967\, Deutschland
ATTACH;FMTTYPE=image/jpeg:https://acompas.de/wp-content/uploads/2023/12/Carina-la-Debla-Flamenco.jpg
END:VEVENT
BEGIN:VEVENT
DTSTART;TZID=Europe/Berlin:20240317T170000
DTEND;TZID=Europe/Berlin:20240317T180000
DTSTAMP:20260424T060357
CREATED:20230814T170521Z
LAST-MODIFIED:20230928T112801Z
UID:4938-1710694800-1710698400@acompas.de
SUMMARY:co-flamen-co
DESCRIPTION:co-flamen-co  in Konzert\n\n\nVioline: Thomas Espanner\nGitarre: Catalina Flores\nGesang u Cajon: Joya la India\nTanz: Joya la India\, Bella la Paloma\nGast: Laura la Risa\n\nEin Sonntagskonzert mit Weltmusik im gipsy-style\, frisch getanztem Flamenco\, spritzigen Choreographien und geigen-starken Interpretationen…\n\n\nSonntag\n17.03.24\n\nEs gibt vor dem Konzert und in der Pause hausgemachte Kuchen und Snacks im Café…\n\n\nEintritt: 15€\nKinder zahlen keinen Eintritt.\n\n\nEinlass um 16:00 Uhr\n\n\nVeranstalter: Thomas Espanner\nReservierung: info@acompas.de
URL:https://acompas.de/kalendar/zigan-zigan-4/
LOCATION:a compás Studio & Location\, Hasenheide 54 Hof 3\, Berlin\, Berlin\, 10967\, Deutschland
ATTACH;FMTTYPE=image/jpeg:https://acompas.de/wp-content/uploads/2023/01/zigan-tzigan-flamenco.jpg
END:VEVENT
BEGIN:VEVENT
DTSTART;TZID=Europe/Berlin:20240322T200000
DTEND;TZID=Europe/Berlin:20240322T220000
DTSTAMP:20260424T060357
CREATED:20240205T110344Z
LAST-MODIFIED:20240205T110405Z
UID:5236-1711137600-1711144800@acompas.de
SUMMARY:FLAME&CO
DESCRIPTION:FLAMEN&CO\nTablao Flamenco\n22.03.2024\nEinlass: 19:00\nBeginn: 20:00\n\nEintritt: 25€\, erm. 20€ \n\nTanz: Simone Abrantes & Anna Shmidt\nGesang: Juan Cárdenas & Celedonio Garrido\nGitarre: Nicos Tsiachris & Gabriel Lorente
URL:https://acompas.de/kalendar/flameco/
LOCATION:a compás Studio & Location\, Hasenheide 54 Hof 3\, Berlin\, Berlin\, 10967\, Deutschland
CATEGORIES:Tablao Flamenco
ATTACH;FMTTYPE=image/jpeg:https://acompas.de/wp-content/uploads/2024/02/flamenco-co.jpg
END:VEVENT
END:VCALENDAR