BEGIN:VCALENDAR
VERSION:2.0
PRODID:-//a compás Studio&amp;Location - ECPv6.15.17.1//NONSGML v1.0//EN
CALSCALE:GREGORIAN
METHOD:PUBLISH
X-ORIGINAL-URL:https://acompas.de
X-WR-CALDESC:Veranstaltungen für a compás Studio&amp;Location
REFRESH-INTERVAL;VALUE=DURATION:PT1H
X-Robots-Tag:noindex
X-PUBLISHED-TTL:PT1H
BEGIN:VTIMEZONE
TZID:Europe/Berlin
BEGIN:DAYLIGHT
TZOFFSETFROM:+0100
TZOFFSETTO:+0200
TZNAME:CEST
DTSTART:20210328T010000
END:DAYLIGHT
BEGIN:STANDARD
TZOFFSETFROM:+0200
TZOFFSETTO:+0100
TZNAME:CET
DTSTART:20211031T010000
END:STANDARD
BEGIN:DAYLIGHT
TZOFFSETFROM:+0100
TZOFFSETTO:+0200
TZNAME:CEST
DTSTART:20220327T010000
END:DAYLIGHT
BEGIN:STANDARD
TZOFFSETFROM:+0200
TZOFFSETTO:+0100
TZNAME:CET
DTSTART:20221030T010000
END:STANDARD
BEGIN:DAYLIGHT
TZOFFSETFROM:+0100
TZOFFSETTO:+0200
TZNAME:CEST
DTSTART:20230326T010000
END:DAYLIGHT
BEGIN:STANDARD
TZOFFSETFROM:+0200
TZOFFSETTO:+0100
TZNAME:CET
DTSTART:20231029T010000
END:STANDARD
END:VTIMEZONE
BEGIN:VEVENT
DTSTART;TZID=Europe/Berlin:20220819T190000
DTEND;TZID=Europe/Berlin:20220819T230000
DTSTAMP:20260424T093205
CREATED:20220712T184122Z
LAST-MODIFIED:20220806T143612Z
UID:4285-1660935600-1660950000@acompas.de
SUMMARY:Tablao Flamenco
DESCRIPTION:Flamenco Show mit Anna Castillo & Pol Jimenez \n 
URL:https://acompas.de/kalendar/tablao-flamenco-4/
LOCATION:a compás Studio & Location\, Hasenheide 54 Hof 3\, Berlin\, Berlin\, 10967\, Deutschland
CATEGORIES:Flamenco,Tablao,Tablao Flamenco
ATTACH;FMTTYPE=image/jpeg:https://acompas.de/wp-content/uploads/2022/07/flamenco-berlin.jpg
ORGANIZER;CN="La Vasca Flamenca e.V.":MAILTO:info@la-vasca-flamenca.de
END:VEVENT
BEGIN:VEVENT
DTSTART;TZID=Europe/Berlin:20220820T120000
DTEND;TZID=Europe/Berlin:20220820T133000
DTSTAMP:20260424T093206
CREATED:20220806T130931Z
LAST-MODIFIED:20220806T131649Z
UID:4298-1660996800-1661002200@acompas.de
SUMMARY:Flamenco Workshop mit Anna Castillo - Tangos
DESCRIPTION:Flamenco Workshop \nTangos für MittelstufeSamstag: 12:00 – 13:30Sonntag: 14:00 – 15:30
URL:https://acompas.de/kalendar/flamenco-workshop-mit-anna-castillo-tangos/
LOCATION:a compás Studio & Location\, Hasenheide 54 Hof 3\, Berlin\, Berlin\, 10967\, Deutschland
CATEGORIES:Flamenco
ATTACH;FMTTYPE=image/png:https://acompas.de/wp-content/uploads/2022/08/Flamenco-Workshop-Anna-Castillo-.png
ORGANIZER;CN="La Vasca Flamenca e.V.":MAILTO:info@la-vasca-flamenca.de
END:VEVENT
BEGIN:VEVENT
DTSTART;TZID=Europe/Berlin:20220820T140000
DTEND;TZID=Europe/Berlin:20220820T160000
DTSTAMP:20260424T093206
CREATED:20220806T132019Z
LAST-MODIFIED:20220806T132024Z
UID:4311-1661004000-1661011200@acompas.de
SUMMARY:Flamenco Workshop mit Anna Castillo - Bulerias
DESCRIPTION:Flamenco Workshop \nBulerias für FortgeschritteneSamstag: 14:00 – 16:00Sonntag: 16:00 – 18:00
URL:https://acompas.de/kalendar/flamenco-workshop-mit-anna-castillo-bulerias/
LOCATION:a compás Studio & Location\, Hasenheide 54 Hof 3\, Berlin\, Berlin\, 10967\, Deutschland
CATEGORIES:Flamenco
ATTACH;FMTTYPE=image/png:https://acompas.de/wp-content/uploads/2022/08/Flamenco-Workshop-Anna-Castillo-.png
ORGANIZER;CN="La Vasca Flamenca e.V.":MAILTO:info@la-vasca-flamenca.de
END:VEVENT
BEGIN:VEVENT
DTSTART;TZID=Europe/Berlin:20220821T140000
DTEND;TZID=Europe/Berlin:20220821T153000
DTSTAMP:20260424T093206
CREATED:20220806T131509Z
LAST-MODIFIED:20220806T132115Z
UID:4305-1661090400-1661095800@acompas.de
SUMMARY:Flamenco Workshop mit Anna Castillo - Tangos
DESCRIPTION:Flamenco Workshop \nTangos für MittelstufeSamstag: 12:00 – 13:30Sonntag: 14:00 – 15:30
URL:https://acompas.de/kalendar/flamenco-workshop-mit-anna-castillo-tangos-2/
LOCATION:a compás Studio & Location\, Hasenheide 54 Hof 3\, Berlin\, Berlin\, 10967\, Deutschland
CATEGORIES:Flamenco
ATTACH;FMTTYPE=image/png:https://acompas.de/wp-content/uploads/2022/08/Flamenco-Workshop-Anna-Castillo-.png
ORGANIZER;CN="La Vasca Flamenca e.V.":MAILTO:info@la-vasca-flamenca.de
END:VEVENT
BEGIN:VEVENT
DTSTART;TZID=Europe/Berlin:20220821T160000
DTEND;TZID=Europe/Berlin:20220821T180000
DTSTAMP:20260424T093206
CREATED:20220806T132413Z
LAST-MODIFIED:20220806T132418Z
UID:4317-1661097600-1661104800@acompas.de
SUMMARY:Flamenco Workshop mit Anna Castillo - Bulerias
DESCRIPTION:Flamenco Workshop \nBulerias für FortgeschritteneSamstag: 14:00 – 16:00Sonntag: 16:00 – 18:00
URL:https://acompas.de/kalendar/flamenco-workshop-mit-anna-castillo-bulerias-2/
LOCATION:a compás Studio & Location\, Hasenheide 54 Hof 3\, Berlin\, Berlin\, 10967\, Deutschland
CATEGORIES:Flamenco
ATTACH;FMTTYPE=image/png:https://acompas.de/wp-content/uploads/2022/08/Flamenco-Workshop-Anna-Castillo-.png
ORGANIZER;CN="La Vasca Flamenca e.V.":MAILTO:info@la-vasca-flamenca.de
END:VEVENT
END:VCALENDAR