BEGIN:VCALENDAR
VERSION:2.0
PRODID:-//a compás Studio&amp;Location - ECPv6.15.17.1//NONSGML v1.0//EN
CALSCALE:GREGORIAN
METHOD:PUBLISH
X-WR-CALNAME:a compás Studio&amp;Location
X-ORIGINAL-URL:https://acompas.de
X-WR-CALDESC:Veranstaltungen für a compás Studio&amp;Location
REFRESH-INTERVAL;VALUE=DURATION:PT1H
X-Robots-Tag:noindex
X-PUBLISHED-TTL:PT1H
BEGIN:VTIMEZONE
TZID:Europe/Berlin
BEGIN:DAYLIGHT
TZOFFSETFROM:+0100
TZOFFSETTO:+0200
TZNAME:CEST
DTSTART:20250330T010000
END:DAYLIGHT
BEGIN:STANDARD
TZOFFSETFROM:+0200
TZOFFSETTO:+0100
TZNAME:CET
DTSTART:20251026T010000
END:STANDARD
BEGIN:DAYLIGHT
TZOFFSETFROM:+0100
TZOFFSETTO:+0200
TZNAME:CEST
DTSTART:20260329T010000
END:DAYLIGHT
BEGIN:STANDARD
TZOFFSETFROM:+0200
TZOFFSETTO:+0100
TZNAME:CET
DTSTART:20261025T010000
END:STANDARD
BEGIN:DAYLIGHT
TZOFFSETFROM:+0100
TZOFFSETTO:+0200
TZNAME:CEST
DTSTART:20270328T010000
END:DAYLIGHT
BEGIN:STANDARD
TZOFFSETFROM:+0200
TZOFFSETTO:+0100
TZNAME:CET
DTSTART:20271031T010000
END:STANDARD
END:VTIMEZONE
BEGIN:VEVENT
DTSTART;TZID=Europe/Berlin:20260206T150000
DTEND;TZID=Europe/Berlin:20260206T230000
DTSTAMP:20260421T104604
CREATED:20250819T211915Z
LAST-MODIFIED:20251116T232154Z
UID:5740-1770390000-1770418800@acompas.de
SUMMARY:“la Luz Dorada” - 33. Gala de Navidad
DESCRIPTION:Liebe Schülerinnen\, Kinder\, Eltern\, Familien und Freundinnen\, \nich freue mich sehr\, euch zu unserer diesjährigen 33. Weihnachtsgalader Schüler*innen der Flamencoschule Laura la Risaim a compás studio & location einzuladen. \n Samstag\, 06.12.2025 15:00 – 23:00 Uhr✨ La Luz Dorada \nAn diesem besonderen Tag erwarten euch auf unserer Studiobühne vielfältige Flamencodarbietungen von Groß und Klein. Freut euch auf ein abwechslungsreiches und mitreißendes Programm\, das bereits jetzt mit großer Spannung und Vorfreude erwartet wird. \nUnsere beiden Musiker Valle Monje (Gitarre) und Javi Castrillón (Gesang) werden das Programm live begleiten. \nWährend der Pause sowie zum Abschluss der Aufführungen gibt es auf der Studio-Terrasse und im Hof Speisen und Getränke. Wie jedes Jahr werde ich für alle kochen – und wer mag\, kann gern etwas zum bunten Mitbring-Buffetbeitragen. \nHierfür liegt eine Liste aus\, in die ihr euch mit kulinarischen Beiträgen oder Bargeldspenden eintragen könnt. Außerdem freue ich mich bis zum 04.12.2025 über Süßigkeiten\, Nüsse oder kleine Geschenke für die Weihnachtssäckchen. \nDen Abend lassen wir gemütlich im Speisesaal ausklingen – oder tanzend auf der offenen Tanzfläche im Foyer. \n\n Eintritt\n\n\nVorverkauf: 25 € \n\n\nErmäßigt: 18 € (Kinder bis 14 Jahre & Menschen mit Behinderungen) \n\n\nSchoßkinder: frei \n\n\nAkteur*innen zahlen nur dann\, wenn sie einen Sitzplatz benötigen. \n\n\nAbendkasse: 25 € für alle \n\n\nDa die Sitzplätze begrenzt und nummeriert sind\, bitte ich um rechtzeitigen Kartenerwerb. \n\n Generalproben\nFreitag\, 05.12.2025 \n\n\nKinder & Jugendliche: 17:00 – 18:30 Uhr \n\n\nErwachsene: 19:00 – 21:00 Uhr \n\n\nWichtig: keine Zuschauer*innen während der Proben! \nAm Probe- und Auftrittstag ist eine Anwesenheit mindestens eine Stunde vorher erforderlich. \n\n Kleidung & Vorbereitung der Kinder\nBitte steckt euren Kindern nach Möglichkeit zu Hause bereits die Haare zu einem Dutt.Benötigt werden: \n\n\n1 schwarze Strumpfhose oder Leggings \n\n\n1 schwarzes und 1 weißes Oberteil (ohne Aufdruck) \n\n\nHaarnadeln\, Haargummis\, Haarnetz\, ggf. Duttschwamm \n\n\n1 rote Blume & 1 weiße Blume \n\n\nKeine Socken! Keine Unterhemden! \n\n\n\nFür alle weiteren Fragen erreicht ihr mich gern unter: info@acompas.deIm Anhang findet ihr den Flyer zum Weiterleiten. \nHerzliche Grüße\,Laura la Risa
URL:https://acompas.de/kalendar/luz-dorada-33-gala-de-navidad/
LOCATION:a compás Studio & Location\, Hasenheide 54 Hof 3\, Berlin\, Berlin\, 10967\, Deutschland
CATEGORIES:Flamenco
ATTACH;FMTTYPE=image/png:https://acompas.de/wp-content/uploads/2025/08/LUZ-DORADA.png
ORGANIZER;CN="La Vasca Flamenca e.V.":MAILTO:info@la-vasca-flamenca.de
END:VEVENT
END:VCALENDAR