BEGIN:VCALENDAR
VERSION:2.0
PRODID:-//a compás Studio&amp;Location - ECPv6.15.17.1//NONSGML v1.0//EN
CALSCALE:GREGORIAN
METHOD:PUBLISH
X-WR-CALNAME:a compás Studio&amp;Location
X-ORIGINAL-URL:https://acompas.de
X-WR-CALDESC:Veranstaltungen für a compás Studio&amp;Location
REFRESH-INTERVAL;VALUE=DURATION:PT1H
X-Robots-Tag:noindex
X-PUBLISHED-TTL:PT1H
BEGIN:VTIMEZONE
TZID:Europe/Berlin
BEGIN:DAYLIGHT
TZOFFSETFROM:+0100
TZOFFSETTO:+0200
TZNAME:CEST
DTSTART:20230326T010000
END:DAYLIGHT
BEGIN:STANDARD
TZOFFSETFROM:+0200
TZOFFSETTO:+0100
TZNAME:CET
DTSTART:20231029T010000
END:STANDARD
BEGIN:DAYLIGHT
TZOFFSETFROM:+0100
TZOFFSETTO:+0200
TZNAME:CEST
DTSTART:20240331T010000
END:DAYLIGHT
BEGIN:STANDARD
TZOFFSETFROM:+0200
TZOFFSETTO:+0100
TZNAME:CET
DTSTART:20241027T010000
END:STANDARD
BEGIN:DAYLIGHT
TZOFFSETFROM:+0100
TZOFFSETTO:+0200
TZNAME:CEST
DTSTART:20250330T010000
END:DAYLIGHT
BEGIN:STANDARD
TZOFFSETFROM:+0200
TZOFFSETTO:+0100
TZNAME:CET
DTSTART:20251026T010000
END:STANDARD
END:VTIMEZONE
BEGIN:VEVENT
DTSTART;TZID=Europe/Berlin:20240309T200000
DTEND;TZID=Europe/Berlin:20240309T220000
DTSTAMP:20260424T035721
CREATED:20231227T192456Z
LAST-MODIFIED:20231228T103047Z
UID:5124-1710014400-1710021600@acompas.de
SUMMARY:"El Gordito" y Ñusta
DESCRIPTION:Samstag\, 09.03.24\n20:00 – 22:00\nTablao Flamenco\ntraditioneller Flamenco in 2 Sets\nTanz: „El Gordito“ y Ñusta\nGesang: Javier Castrillón\nGitarre: Valle Monje \nVeranstalter: Dirk Hoffmann\nKarten/Info: www.acompas.de
URL:https://acompas.de/kalendar/el-gordito-y-nusta/
LOCATION:a compás Studio & Location\, Hasenheide 54 Hof 3\, Berlin\, Berlin\, 10967\, Deutschland
ATTACH;FMTTYPE=image/jpeg:https://acompas.de/wp-content/uploads/2023/12/El-Gordito-y-nusta.jpg
END:VEVENT
END:VCALENDAR