BEGIN:VCALENDAR
VERSION:2.0
PRODID:-//a compás Studio&amp;Location - ECPv6.15.17.1//NONSGML v1.0//EN
CALSCALE:GREGORIAN
METHOD:PUBLISH
X-ORIGINAL-URL:https://acompas.de
X-WR-CALDESC:Veranstaltungen für a compás Studio&amp;Location
REFRESH-INTERVAL;VALUE=DURATION:PT1H
X-Robots-Tag:noindex
X-PUBLISHED-TTL:PT1H
BEGIN:VTIMEZONE
TZID:Europe/Berlin
BEGIN:DAYLIGHT
TZOFFSETFROM:+0100
TZOFFSETTO:+0200
TZNAME:CEST
DTSTART:20230326T010000
END:DAYLIGHT
BEGIN:STANDARD
TZOFFSETFROM:+0200
TZOFFSETTO:+0100
TZNAME:CET
DTSTART:20231029T010000
END:STANDARD
BEGIN:DAYLIGHT
TZOFFSETFROM:+0100
TZOFFSETTO:+0200
TZNAME:CEST
DTSTART:20240331T010000
END:DAYLIGHT
BEGIN:STANDARD
TZOFFSETFROM:+0200
TZOFFSETTO:+0100
TZNAME:CET
DTSTART:20241027T010000
END:STANDARD
BEGIN:DAYLIGHT
TZOFFSETFROM:+0100
TZOFFSETTO:+0200
TZNAME:CEST
DTSTART:20250330T010000
END:DAYLIGHT
BEGIN:STANDARD
TZOFFSETFROM:+0200
TZOFFSETTO:+0100
TZNAME:CET
DTSTART:20251026T010000
END:STANDARD
END:VTIMEZONE
BEGIN:VEVENT
DTSTART;TZID=Europe/Berlin:20240214T193000
DTEND;TZID=Europe/Berlin:20240214T220000
DTSTAMP:20260423T182531
CREATED:20231227T230429Z
LAST-MODIFIED:20231227T230429Z
UID:5137-1707939000-1707948000@acompas.de
SUMMARY:Sevillanas - "After Work Party"
DESCRIPTION:Sevillanas – After Work Party“\nJeder 2. Mittwoch im Monat\ntanzen & jamen von 19:30 – 22:00\n10.01.\, 14.02.\, 13.03. und 10.04.2024\nEintritt frei!\nVeranstalter:la Vasca Flamenca e.V.\nwww.acompas.de \nFoto: Janette Kneisel
URL:https://acompas.de/kalendar/sevillanas-after-work-party-6/
LOCATION:a compás Studio & Location\, Hasenheide 54 Hof 3\, Berlin\, Berlin\, 10967\, Deutschland
ATTACH;FMTTYPE=image/jpeg:https://acompas.de/wp-content/uploads/2023/12/laura-la-risa-sevillanas-after-work-party.jpg
ORGANIZER;CN="Laura la Risa":MAILTO:info@laura-la-risa.de
END:VEVENT
END:VCALENDAR